BEGIN:VCALENDAR
PRODID:-//Microsoft Corporation//Outlook 14.0 MIMEDIR//EN
VERSION:2.0
METHOD:PUBLISH
BEGIN:VEVENT
UID:41bcc01cdbaae02f79b85264e46478b8www.atccmonteregie.qc.ca
DTSTAMP:20260420T053208Z
DTSTART:2024-10-22T10:00:0000Z
DTEND:2024-10-22T12:00:0000Z
SUMMARY:Club de vélo adapté Beloeil
LOCATION:308 Rue Montsabré, Beloeil, QC, Canada Local D-131
DESCRIPTION:Balade en vélo. Réservation nécessaire pour emprunter un de nos 2 vélos adaptés.
END:VEVENT
END:VCALENDAR