BEGIN:VCALENDAR
PRODID:-//Microsoft Corporation//Outlook 14.0 MIMEDIR//EN
VERSION:2.0
METHOD:PUBLISH
BEGIN:VEVENT
UID:b91a7dd912875b6ad04a40d930c8ffcewww.atccmonteregie.qc.ca
DTSTAMP:20260420T053304Z
DTSTART:2024-10-29T10:00:0000Z
DTEND:2024-10-29T12:00:0000Z
SUMMARY:Club de vélo adapté Beloeil
LOCATION:308 Rue Montsabré, Beloeil, QC, Canada Local D-131
DESCRIPTION:Balade en vélo. Réservation nécessaire pour emprunter un de nos 2 vélos adaptés.
END:VEVENT
END:VCALENDAR