BEGIN:VCALENDAR
PRODID:-//Microsoft Corporation//Outlook 14.0 MIMEDIR//EN
VERSION:2.0
METHOD:PUBLISH
BEGIN:VEVENT
UID:88daecb4e833bb6e1f96e52e89493d91www.atccmonteregie.qc.ca
DTSTAMP:20260420T052019Z
DTSTART:2024-12-04T10:00:0000Z
DTEND:2024-12-04T12:00:0000Z
SUMMARY:Méditation Beloeil
LOCATION:308 Rue Montsabré, Beloeil, QC, Canada Local D-131
DESCRIPTION:Atelier de méditation
END:VEVENT
END:VCALENDAR