BEGIN:VCALENDAR
PRODID:-//Microsoft Corporation//Outlook 14.0 MIMEDIR//EN
VERSION:2.0
METHOD:PUBLISH
BEGIN:VEVENT
UID:6f100105c6295686130a91347307ac28www.atccmonteregie.qc.ca
DTSTAMP:20260423T165826Z
DTSTART:2025-06-03T10:00:0000Z
DTEND:2025-06-03T12:00:0000Z
SUMMARY:Club de vélo adapté Beloeil 
LOCATION:308 Rue Montsabré, Beloeil, QC, Canada Local D-131
DESCRIPTION:Balade en vélo. Réservation nécessaire pour emprunter un de nos 2 vélos adaptés.
END:VEVENT
END:VCALENDAR