BEGIN:VCALENDAR
PRODID:-//Microsoft Corporation//Outlook 14.0 MIMEDIR//EN
VERSION:2.0
METHOD:PUBLISH
BEGIN:VEVENT
UID:6b506a4435bf46842324f4b681cc2153www.atccmonteregie.qc.ca
DTSTAMP:20260423T165913Z
DTSTART:2025-05-20T10:00:0000Z
DTEND:2025-05-20T12:00:0000Z
SUMMARY:Parlons AVC Longueuil 
LOCATION:1400 Boulevard Édouard, Longueuil, QC, Canada Local 113
DESCRIPTION:Échanger sur l’AVC et ses impacts avec des personnes qui ont fait un AVC et leur proches en plus d’obtenir de l’information
END:VEVENT
END:VCALENDAR