BEGIN:VCALENDAR
PRODID:-//Microsoft Corporation//Outlook 14.0 MIMEDIR//EN
VERSION:2.0
METHOD:PUBLISH
BEGIN:VEVENT
UID:4cc0375101595e9a8a8b37e6464d507dwww.atccmonteregie.qc.ca
DTSTAMP:20260423T170134Z
DTSTART:2025-07-02T10:00:0000Z
DTEND:2025-07-02T12:00:0000Z
SUMMARY:Parlons AVC Longueuil 
LOCATION:1400 Boulevard Édouard, Longueuil, QC, Canada Local 113
DESCRIPTION:Échanger sur l’AVC et ses impacts avec des personnes qui ont fait un AVC et leur proches en plus d’obtenir de l’information
END:VEVENT
END:VCALENDAR