BEGIN:VCALENDAR
PRODID:-//Microsoft Corporation//Outlook 14.0 MIMEDIR//EN
VERSION:2.0
METHOD:PUBLISH
BEGIN:VEVENT
UID:153acc431ac76ff13cd29b36fdebf201www.atccmonteregie.qc.ca
DTSTAMP:20260423T165208Z
DTSTART:2025-06-10T10:00:0000Z
DTEND:2025-06-10T12:00:0000Z
SUMMARY:Parlons AVC Longueuil 
LOCATION:1400 Boulevard Édouard, Longueuil, QC, Canada Local 113
DESCRIPTION:Échanger sur l’AVC et ses impacts avec des personnes qui ont fait un AVC et leur proches en plus d’obtenir de l’information
END:VEVENT
END:VCALENDAR