BEGIN:VCALENDAR
PRODID:-//Microsoft Corporation//Outlook 14.0 MIMEDIR//EN
VERSION:2.0
METHOD:PUBLISH
BEGIN:VEVENT
UID:24142a2cca7380c5579eb336daad6ffcwww.atccmonteregie.qc.ca
DTSTAMP:20260421T110117Z
DTSTART:2025-04-30T13:00:0000Z
DTEND:2025-04-30T15:00:0000Z
SUMMARY:Crible et jeux divers Valleyfield 
LOCATION:77 Rue St Charles, Salaberry-de-Valleyfield, QC, Canada
DESCRIPTION:Crible, jeux de société, jeux d’adresse
END:VEVENT
END:VCALENDAR