BEGIN:VCALENDAR
PRODID:-//Microsoft Corporation//Outlook 14.0 MIMEDIR//EN
VERSION:2.0
METHOD:PUBLISH
BEGIN:VEVENT
UID:3441d9ccb4e31f30fa1a58fefbfdefe0www.atccmonteregie.qc.ca
DTSTAMP:20260421T105956Z
DTSTART:2025-05-20T13:00:0000Z
DTEND:2025-05-20T15:00:0000Z
SUMMARY:Crible et jeux divers Valleyfield 
LOCATION:77 Rue St Charles, Salaberry-de-Valleyfield, QC, Canada
DESCRIPTION:Crible, jeux de société, jeux d’adresse
END:VEVENT
END:VCALENDAR