BEGIN:VCALENDAR
PRODID:-//Microsoft Corporation//Outlook 14.0 MIMEDIR//EN
VERSION:2.0
METHOD:PUBLISH
BEGIN:VEVENT
UID:6ab85b6919dc6f1a7fee2d247b3fad0cwww.atccmonteregie.qc.ca
DTSTAMP:20260421T110133Z
DTSTART:2025-06-10T13:00:0000Z
DTEND:2025-06-10T15:00:0000Z
SUMMARY:Crible et jeux divers Valleyfield 
LOCATION:77 Rue St Charles, Salaberry-de-Valleyfield, QC, Canada
DESCRIPTION:Crible, jeux de société, jeux d’adresse
END:VEVENT
END:VCALENDAR