BEGIN:VCALENDAR
PRODID:-//Microsoft Corporation//Outlook 14.0 MIMEDIR//EN
VERSION:2.0
METHOD:PUBLISH
BEGIN:VEVENT
UID:973ce7b463bd904f0ef359e75a98e7bdwww.atccmonteregie.qc.ca
DTSTAMP:20260420T052018Z
DTSTART:2024-11-07T12:30:0000Z
DTEND:2024-11-07T15:30:0000Z
SUMMARY:Café-Causerie Longueuil
LOCATION:1400 Boulevard Édouard, Longueuil, QC, Canada Local 113
DESCRIPTION:Un café et discussion en bonne compagnie
END:VEVENT
END:VCALENDAR