BEGIN:VCALENDAR
PRODID:-//Microsoft Corporation//Outlook 14.0 MIMEDIR//EN
VERSION:2.0
METHOD:PUBLISH
BEGIN:VEVENT
UID:25282596fb5ff3de970358e007ef8742www.atccmonteregie.qc.ca
DTSTAMP:20260420T052018Z
DTSTART:2024-11-15T10:00:0000Z
DTEND:2024-11-15T12:00:0000Z
SUMMARY:Café-Causerie Longueuil
LOCATION:1400 Boulevard Édouard, Longueuil, QC, Canada Local 113
DESCRIPTION:Un café et discussion en bonne compagnie
END:VEVENT
END:VCALENDAR