BEGIN:VCALENDAR
PRODID:-//Microsoft Corporation//Outlook 14.0 MIMEDIR//EN
VERSION:2.0
METHOD:PUBLISH
BEGIN:VEVENT
UID:b3ea60c84f72ec994acadff769151feawww.atccmonteregie.qc.ca
DTSTAMP:20260420T052020Z
DTSTART:2024-11-15T10:00:0000Z
DTEND:2024-11-15T12:00:0000Z
SUMMARY:Café-Causerie Valleyfield
LOCATION:77 Rue St Charles, Salaberry-de-Valleyfield, QC, Canada
DESCRIPTION:Un café et discussion en bonne compagnie
END:VEVENT
END:VCALENDAR