BEGIN:VCALENDAR
PRODID:-//Microsoft Corporation//Outlook 14.0 MIMEDIR//EN
VERSION:2.0
METHOD:PUBLISH
BEGIN:VEVENT
UID:07b1dba3baec0a1c5c2c97bdd4a0081fwww.atccmonteregie.qc.ca
DTSTAMP:20260420T052020Z
DTSTART:2024-12-11T10:00:0000Z
DTEND:2024-12-11T12:00:0000Z
SUMMARY:Café-Causerie Valleyfield
LOCATION:77 Rue St Charles, Salaberry-de-Valleyfield, QC, Canada
DESCRIPTION:Un café et discussion en bonne compagnie
END:VEVENT
END:VCALENDAR