BEGIN:VCALENDAR
PRODID:-//Microsoft Corporation//Outlook 14.0 MIMEDIR//EN
VERSION:2.0
METHOD:PUBLISH
BEGIN:VEVENT
UID:14386cf44d41d3a9155c029e45c67acbwww.atccmonteregie.qc.ca
DTSTAMP:20260424T115106Z
DTSTART:2026-04-20T10:00:0000Z
DTEND:2026-04-20T13:00:0000Z
SUMMARY:Dîner et soyons actifs (Beloeil) P2026
LOCATION:308 Rue Montsabré, Beloeil, QC, Canada (salle André-Nolin)
DESCRIPTION:*apportez votre lunch**

END:VEVENT
END:VCALENDAR