BEGIN:VCALENDAR
PRODID:-//Microsoft Corporation//Outlook 14.0 MIMEDIR//EN
VERSION:2.0
METHOD:PUBLISH
BEGIN:VEVENT
UID:b5e066f7c5d1f8019305a26ab4b2ab08www.atccmonteregie.qc.ca
DTSTAMP:20260424T115228Z
DTSTART:2026-05-04T10:00:0000Z
DTEND:2026-05-04T13:00:0000Z
SUMMARY:Dîner et soyons actifs (Beloeil) P2026
LOCATION:308 Rue Montsabré, Beloeil, QC, Canada (salle André-Nolin)
DESCRIPTION:*apportez votre lunch**

END:VEVENT
END:VCALENDAR