BEGIN:VCALENDAR
PRODID:-//Microsoft Corporation//Outlook 14.0 MIMEDIR//EN
VERSION:2.0
METHOD:PUBLISH
BEGIN:VEVENT
UID:a181dcb6fa24b6bc5436d47c9da28cd4www.atccmonteregie.qc.ca
DTSTAMP:20260424T115136Z
DTSTART:2026-06-22T10:00:0000Z
DTEND:2026-06-22T13:00:0000Z
SUMMARY:Dîner et soyons actifs (Beloeil) P2026
LOCATION:308 Rue Montsabré, Beloeil, QC, Canada (salle André-Nolin)
DESCRIPTION:*apportez votre lunch**

END:VEVENT
END:VCALENDAR