BEGIN:VCALENDAR
PRODID:-//Microsoft Corporation//Outlook 14.0 MIMEDIR//EN
VERSION:2.0
METHOD:PUBLISH
BEGIN:VEVENT
UID:41ab0be66b69f390be73579ccaa400bewww.atccmonteregie.qc.ca
DTSTAMP:20260424T114810Z
DTSTART:2025-11-12T10:00:0000Z
DTEND:2025-11-12T12:00:0000Z
SUMMARY:Dîner et soyons actifs (Beloeil) P2026
LOCATION:308 Rue Montsabré, Beloeil, QC, Canada (salle André-Nolin)
DESCRIPTION:*apportez votre lunch**

END:VEVENT
END:VCALENDAR