BEGIN:VCALENDAR
PRODID:-//Microsoft Corporation//Outlook 14.0 MIMEDIR//EN
VERSION:2.0
METHOD:PUBLISH
BEGIN:VEVENT
UID:bed84a6bb14ce6ec5bcb204b86ac26fawww.atccmonteregie.qc.ca
DTSTAMP:20260424T115218Z
DTSTART:2026-05-07T13:00:0000Z
DTEND:2026-05-07T15:00:0000Z
SUMMARY:Parlons AVC Beloeil P-2026
LOCATION:Local de Beloeil
DESCRIPTION:Échanger sur l’AVC et ses impacts avec des personnes qui ont fait un AVC et leur proches en plus d’obtenir de l’information
END:VEVENT
END:VCALENDAR