BEGIN:VCALENDAR
PRODID:-//Microsoft Corporation//Outlook 14.0 MIMEDIR//EN
VERSION:2.0
METHOD:PUBLISH
BEGIN:VEVENT
UID:9e72585b83ed90135189cc4eeb519547www.atccmonteregie.qc.ca
DTSTAMP:20260424T115044Z
DTSTART:2025-11-26T10:00:0000Z
DTEND:2025-11-26T12:00:0000Z
SUMMARY:Parlons AVC Beloeil P-2026
LOCATION:Local de Beloeil
DESCRIPTION:Échanger sur l’AVC et ses impacts avec des personnes qui ont fait un AVC et leur proches en plus d’obtenir de l’information
END:VEVENT
END:VCALENDAR