BEGIN:VCALENDAR
PRODID:-//Microsoft Corporation//Outlook 14.0 MIMEDIR//EN
VERSION:2.0
METHOD:PUBLISH
BEGIN:VEVENT
UID:7fe887cc05ebb8be47ae9e110e6d67b7www.atccmonteregie.qc.ca
DTSTAMP:20260424T115035Z
DTSTART:2026-04-23T13:00:0000Z
DTEND:2026-04-23T15:00:0000Z
SUMMARY:Espace artistique (session) Beloeil (P2026)
LOCATION:308 montsabré, Beloeil
DESCRIPTION:Explorez différents projets et mediums artistique
END:VEVENT
END:VCALENDAR