BEGIN:VCALENDAR
PRODID:-//Microsoft Corporation//Outlook 14.0 MIMEDIR//EN
VERSION:2.0
METHOD:PUBLISH
BEGIN:VEVENT
UID:01cf59fb958a02c61620bdb2a5e2c693www.atccmonteregie.qc.ca
DTSTAMP:20260424T114954Z
DTSTART:2026-04-30T13:00:0000Z
DTEND:2026-04-30T15:00:0000Z
SUMMARY:Espace artistique (session) Beloeil (P2026)
LOCATION:308 montsabré, Beloeil
DESCRIPTION:Explorez différents projets et mediums artistique
END:VEVENT
END:VCALENDAR