BEGIN:VCALENDAR
PRODID:-//Microsoft Corporation//Outlook 14.0 MIMEDIR//EN
VERSION:2.0
METHOD:PUBLISH
BEGIN:VEVENT
UID:ab6f0716945278e5d9edc5976ff09004www.atccmonteregie.qc.ca
DTSTAMP:20260424T114810Z
DTSTART:2026-04-16T13:00:0000Z
DTEND:2026-04-16T15:00:0000Z
SUMMARY:Espace artistique (session) Beloeil (P2026)
LOCATION:308 montsabré, Beloeil
DESCRIPTION:Explorez différents projets et mediums artistique
END:VEVENT
END:VCALENDAR