BEGIN:VCALENDAR
PRODID:-//Microsoft Corporation//Outlook 14.0 MIMEDIR//EN
VERSION:2.0
METHOD:PUBLISH
BEGIN:VEVENT
UID:6e8770ba056bc0c0c0e4d54043eb843ewww.atccmonteregie.qc.ca
DTSTAMP:20260424T122048Z
DTSTART:2026-04-25T09:30:0000Z
DTEND:2026-04-25T15:00:0000Z
SUMMARY:Répit du samedi Beloeil P2026
LOCATION:308 Rue Montsabré, Beloeil, QC, Canada Local D-131
DESCRIPTION:Samedi répit
END:VEVENT
END:VCALENDAR