BEGIN:VCALENDAR
PRODID:-//Microsoft Corporation//Outlook 14.0 MIMEDIR//EN
VERSION:2.0
METHOD:PUBLISH
BEGIN:VEVENT
UID:bb2f1317060569160abca31c016fcfe4www.atccmonteregie.qc.ca
DTSTAMP:20260424T122227Z
DTSTART:2026-04-20T13:00:0000Z
DTEND:2026-04-20T15:00:0000Z
SUMMARY:Pour le plaisir Longueuil  P2026
LOCATION:Local de St-Hubert
DESCRIPTION:Animation et jeux
END:VEVENT
END:VCALENDAR