BEGIN:VCALENDAR
PRODID:-//Microsoft Corporation//Outlook 14.0 MIMEDIR//EN
VERSION:2.0
METHOD:PUBLISH
BEGIN:VEVENT
UID:ffe7a5d78e582cb8059357c35af15767www.atccmonteregie.qc.ca
DTSTAMP:20260424T134429Z
DTSTART:2026-05-04T13:00:0000Z
DTEND:2026-04-04T15:00:0000Z
SUMMARY:Pour le plaisir Longueuil  P2026
LOCATION:Local de St-Hubert
DESCRIPTION:Animation et jeux
END:VEVENT
END:VCALENDAR