BEGIN:VCALENDAR
PRODID:-//Microsoft Corporation//Outlook 14.0 MIMEDIR//EN
VERSION:2.0
METHOD:PUBLISH
BEGIN:VEVENT
UID:2e5a42cd26f3f0d1af11ba8be34de7f1www.atccmonteregie.qc.ca
DTSTAMP:20260424T122508Z
DTSTART:2026-05-11T13:00:0000Z
DTEND:2026-05-11T15:00:0000Z
SUMMARY:Pour le plaisir Longueuil  P2026
LOCATION:Local de St-Hubert
DESCRIPTION:Animation et jeux
END:VEVENT
END:VCALENDAR