BEGIN:VCALENDAR
PRODID:-//Microsoft Corporation//Outlook 14.0 MIMEDIR//EN
VERSION:2.0
METHOD:PUBLISH
BEGIN:VEVENT
UID:c5f0587c2549c9059a1a0f06e5dea0d4www.atccmonteregie.qc.ca
DTSTAMP:20260424T122339Z
DTSTART:2026-05-25T13:00:0000Z
DTEND:2026-05-25T15:00:0000Z
SUMMARY:Pour le plaisir Longueuil  P2026
LOCATION:Local de St-Hubert
DESCRIPTION:Animation et jeux
END:VEVENT
END:VCALENDAR