BEGIN:VCALENDAR
PRODID:-//Microsoft Corporation//Outlook 14.0 MIMEDIR//EN
VERSION:2.0
METHOD:PUBLISH
BEGIN:VEVENT
UID:c38d442d5eb57cd4395759062fe5c30awww.atccmonteregie.qc.ca
DTSTAMP:20260424T122048Z
DTSTART:2026-06-01T13:00:0000Z
DTEND:2026-06-01T15:00:0000Z
SUMMARY:Pour le plaisir Longueuil  P2026
LOCATION:Local de St-Hubert
DESCRIPTION:Animation et jeux
END:VEVENT
END:VCALENDAR