BEGIN:VCALENDAR
PRODID:-//Microsoft Corporation//Outlook 14.0 MIMEDIR//EN
VERSION:2.0
METHOD:PUBLISH
BEGIN:VEVENT
UID:753d09c13575245e7acb61b8fe225b90www.atccmonteregie.qc.ca
DTSTAMP:20260424T133919Z
DTSTART:2026-06-08T13:00:0000Z
DTEND:2026-06-08T15:00:0000Z
SUMMARY:Pour le plaisir Longueuil  P2026
LOCATION:Local de St-Hubert
DESCRIPTION:Animation et jeux
END:VEVENT
END:VCALENDAR