BEGIN:VCALENDAR
PRODID:-//Microsoft Corporation//Outlook 14.0 MIMEDIR//EN
VERSION:2.0
METHOD:PUBLISH
BEGIN:VEVENT
UID:f3a5665e30bdceac4fb1c1a767e1a317www.atccmonteregie.qc.ca
DTSTAMP:20260424T122200Z
DTSTART:2026-06-22T13:00:0000Z
DTEND:2026-06-22T15:00:0000Z
SUMMARY:Pour le plaisir Longueuil  P2026
LOCATION:Local de St-Hubert
DESCRIPTION:Animation et jeux
END:VEVENT
END:VCALENDAR