BEGIN:VCALENDAR
PRODID:-//Microsoft Corporation//Outlook 14.0 MIMEDIR//EN
VERSION:2.0
METHOD:PUBLISH
BEGIN:VEVENT
UID:a200e5e795c6d263fe41bd56f35ebabcwww.atccmonteregie.qc.ca
DTSTAMP:20260424T133920Z
DTSTART:2025-10-22T13:00:0000Z
DTEND:2025-10-22T15:00:0000Z
SUMMARY:Pour le plaisir Longueuil  P2026
LOCATION:Local de St-Hubert
DESCRIPTION:Animation et jeux
END:VEVENT
END:VCALENDAR