BEGIN:VCALENDAR
PRODID:-//Microsoft Corporation//Outlook 14.0 MIMEDIR//EN
VERSION:2.0
METHOD:PUBLISH
BEGIN:VEVENT
UID:f672269ab492ec6a8fa21fb606ad1784www.atccmonteregie.qc.ca
DTSTAMP:20260424T115218Z
DTSTART:2026-04-30T13:00:0000Z
DTEND:2026-04-30T15:00:0000Z
SUMMARY:Espace artistique Longueuil P2026
LOCATION:Local de St-Hubert
DESCRIPTION:activité d’art
END:VEVENT
END:VCALENDAR