BEGIN:VCALENDAR
PRODID:-//Microsoft Corporation//Outlook 14.0 MIMEDIR//EN
VERSION:2.0
METHOD:PUBLISH
BEGIN:VEVENT
UID:831fec2acb5c48f5061df435c4b9d3dbwww.atccmonteregie.qc.ca
DTSTAMP:20260424T114851Z
DTSTART:2026-05-07T13:00:0000Z
DTEND:2026-05-07T15:00:0000Z
SUMMARY:Espace artistique Longueuil P2026
LOCATION:Local de St-Hubert
DESCRIPTION:activité d’art
END:VEVENT
END:VCALENDAR