BEGIN:VCALENDAR
PRODID:-//Microsoft Corporation//Outlook 14.0 MIMEDIR//EN
VERSION:2.0
METHOD:PUBLISH
BEGIN:VEVENT
UID:c8d63729fb0c9e6a1ff4e2d741b2b0b5www.atccmonteregie.qc.ca
DTSTAMP:20260424T115305Z
DTSTART:2026-05-28T13:00:0000Z
DTEND:2026-05-28T15:00:0000Z
SUMMARY:Espace artistique Longueuil P2026
LOCATION:Local de St-Hubert
DESCRIPTION:activité d’art
END:VEVENT
END:VCALENDAR