BEGIN:VCALENDAR
PRODID:-//Microsoft Corporation//Outlook 14.0 MIMEDIR//EN
VERSION:2.0
METHOD:PUBLISH
BEGIN:VEVENT
UID:b29ab858d1a6d4b3bc23d32dc9cca3f5www.atccmonteregie.qc.ca
DTSTAMP:20260424T115137Z
DTSTART:2026-06-04T13:00:0000Z
DTEND:2026-06-04T15:00:0000Z
SUMMARY:Espace artistique Longueuil P2026
LOCATION:Local de St-Hubert
DESCRIPTION:activité d’art
END:VEVENT
END:VCALENDAR