BEGIN:VCALENDAR
PRODID:-//Microsoft Corporation//Outlook 14.0 MIMEDIR//EN
VERSION:2.0
METHOD:PUBLISH
BEGIN:VEVENT
UID:c562f89f91268f6b5f4d4b5452b40164www.atccmonteregie.qc.ca
DTSTAMP:20260424T115228Z
DTSTART:2026-06-25T13:00:0000Z
DTEND:2026-06-25T15:00:0000Z
SUMMARY:Espace artistique Longueuil P2026
LOCATION:Local de St-Hubert
DESCRIPTION:activité d’art
END:VEVENT
END:VCALENDAR