BEGIN:VCALENDAR
PRODID:-//Microsoft Corporation//Outlook 14.0 MIMEDIR//EN
VERSION:2.0
METHOD:PUBLISH
BEGIN:VEVENT
UID:effcd2f0aaa06ddfe7b35feaf391324awww.atccmonteregie.qc.ca
DTSTAMP:20260424T114851Z
DTSTART:2025-10-29T13:00:0000Z
DTEND:2025-10-29T15:00:0000Z
SUMMARY:Espace artistique Longueuil P2026
LOCATION:Local de St-Hubert
DESCRIPTION:activité d’art
END:VEVENT
END:VCALENDAR