BEGIN:VCALENDAR
PRODID:-//Microsoft Corporation//Outlook 14.0 MIMEDIR//EN
VERSION:2.0
METHOD:PUBLISH
BEGIN:VEVENT
UID:642268dfed52c3cb5e93b38f1956c677www.atccmonteregie.qc.ca
DTSTAMP:20260424T114803Z
DTSTART:2026-04-15T13:00:0000Z
DTEND:2026-04-15T15:00:0000Z
SUMMARY:Soyons Actifs Longueuil  (P2026)
LOCATION:parc michel chartrand, 1895 rue Adoncour Longueuil
DESCRIPTION:Activités physiques adaptées variées
END:VEVENT
END:VCALENDAR