BEGIN:VCALENDAR
PRODID:-//Microsoft Corporation//Outlook 14.0 MIMEDIR//EN
VERSION:2.0
METHOD:PUBLISH
BEGIN:VEVENT
UID:c6e6aff93c10f820d980a0b3fdc35282www.atccmonteregie.qc.ca
DTSTAMP:20260424T101833Z
DTSTART:2026-04-22T13:00:0000Z
DTEND:2026-04-22T15:00:0000Z
SUMMARY:Soyons Actifs Longueuil  (P2026)
LOCATION:parc michel chartrand, 1895 rue Adoncour Longueuil
DESCRIPTION:Activités physiques adaptées variées
END:VEVENT
END:VCALENDAR