BEGIN:VCALENDAR
PRODID:-//Microsoft Corporation//Outlook 14.0 MIMEDIR//EN
VERSION:2.0
METHOD:PUBLISH
BEGIN:VEVENT
UID:cbc779eb9aba7bf8fb0f76fc161e66c5www.atccmonteregie.qc.ca
DTSTAMP:20260424T101501Z
DTSTART:2026-04-29T13:00:0000Z
DTEND:2026-04-29T15:00:0000Z
SUMMARY:Soyons Actifs Longueuil  (P2026)
LOCATION:parc michel chartrand, 1895 rue Adoncour Longueuil
DESCRIPTION:Activités physiques adaptées variées
END:VEVENT
END:VCALENDAR