BEGIN:VCALENDAR
PRODID:-//Microsoft Corporation//Outlook 14.0 MIMEDIR//EN
VERSION:2.0
METHOD:PUBLISH
BEGIN:VEVENT
UID:ad76a28ae5ca422a5ce882309cd6870awww.atccmonteregie.qc.ca
DTSTAMP:20260424T115034Z
DTSTART:2026-05-06T13:00:0000Z
DTEND:2026-05-06T15:00:0000Z
SUMMARY:Soyons Actifs Longueuil  (P2026)
LOCATION:parc michel chartrand, 1895 rue Adoncour Longueuil
DESCRIPTION:Activités physiques adaptées variées
END:VEVENT
END:VCALENDAR