BEGIN:VCALENDAR
PRODID:-//Microsoft Corporation//Outlook 14.0 MIMEDIR//EN
VERSION:2.0
METHOD:PUBLISH
BEGIN:VEVENT
UID:d9ed7f801c0883baef562ff79deb302ewww.atccmonteregie.qc.ca
DTSTAMP:20260424T101742Z
DTSTART:2026-05-13T13:00:0000Z
DTEND:2026-05-13T15:00:0000Z
SUMMARY:Soyons Actifs Longueuil  (P2026)
LOCATION:parc michel chartrand, 1895 rue Adoncour Longueuil
DESCRIPTION:Activités physiques adaptées variées
END:VEVENT
END:VCALENDAR