BEGIN:VCALENDAR
PRODID:-//Microsoft Corporation//Outlook 14.0 MIMEDIR//EN
VERSION:2.0
METHOD:PUBLISH
BEGIN:VEVENT
UID:4fc795bfc1c9787896a92e117cde727ewww.atccmonteregie.qc.ca
DTSTAMP:20260424T101629Z
DTSTART:2026-05-27T10:00:0000Z
DTEND:2026-05-27T12:00:0000Z
SUMMARY:Soyons Actifs Longueuil  (P2026)
LOCATION:parc michel chartrand, 1895 rue Adoncour Longueuil
DESCRIPTION:Activités physiques adaptées variées
END:VEVENT
END:VCALENDAR