BEGIN:VCALENDAR
PRODID:-//Microsoft Corporation//Outlook 14.0 MIMEDIR//EN
VERSION:2.0
METHOD:PUBLISH
BEGIN:VEVENT
UID:d9c9ef4b8d3802507b397a85f57fba57www.atccmonteregie.qc.ca
DTSTAMP:20260424T115044Z
DTSTART:2026-06-03T10:00:0000Z
DTEND:2026-06-03T12:00:0000Z
SUMMARY:Soyons Actifs Longueuil  (P2026)
LOCATION:parc michel chartrand, 1895 rue Adoncour Longueuil
DESCRIPTION:Activités physiques adaptées variées
END:VEVENT
END:VCALENDAR