BEGIN:VCALENDAR
PRODID:-//Microsoft Corporation//Outlook 14.0 MIMEDIR//EN
VERSION:2.0
METHOD:PUBLISH
BEGIN:VEVENT
UID:38ecc523a78c97fc4c00da0e71c216b3www.atccmonteregie.qc.ca
DTSTAMP:20260424T101906Z
DTSTART:2026-06-10T10:00:0000Z
DTEND:2025-06-10T12:00:0000Z
SUMMARY:Soyons Actifs Longueuil  (P2026)
LOCATION:parc michel chartrand, 1895 rue Adoncour Longueuil
DESCRIPTION:Activités physiques adaptées variées
END:VEVENT
END:VCALENDAR