BEGIN:VCALENDAR
PRODID:-//Microsoft Corporation//Outlook 14.0 MIMEDIR//EN
VERSION:2.0
METHOD:PUBLISH
BEGIN:VEVENT
UID:c60d4aa1a25cd95a0c9363726f71ba4bwww.atccmonteregie.qc.ca
DTSTAMP:20260424T114810Z
DTSTART:2025-11-05T13:00:0000Z
DTEND:2025-11-05T15:00:0000Z
SUMMARY:Soyons Actifs Longueuil  (P2026)
LOCATION:parc michel chartrand, 1895 rue Adoncour Longueuil
DESCRIPTION:Activités physiques adaptées variées
END:VEVENT
END:VCALENDAR