BEGIN:VCALENDAR
PRODID:-//Microsoft Corporation//Outlook 14.0 MIMEDIR//EN
VERSION:2.0
METHOD:PUBLISH
BEGIN:VEVENT
UID:61b1e47a6e158b6b37ba6e7dbe48cd9awww.atccmonteregie.qc.ca
DTSTAMP:20260424T122333Z
DTSTART:2026-06-09T13:00:0000Z
DTEND:2026-06-09T15:00:0000Z
SUMMARY:Parlons AVC Longueuil P2026
LOCATION:1400 Boulevard Édouard, Longueuil, QC, Canada Local 113
DESCRIPTION:Échanger sur l’AVC et ses impacts avec des personnes qui ont fait un AVC et leur proches en plus d’obtenir de l’information
END:VEVENT
END:VCALENDAR