BEGIN:VCALENDAR
PRODID:-//Microsoft Corporation//Outlook 14.0 MIMEDIR//EN
VERSION:2.0
METHOD:PUBLISH
BEGIN:VEVENT
UID:e8099a40d673c3c6b4404df9e3679f10www.atccmonteregie.qc.ca
DTSTAMP:20260424T122210Z
DTSTART:2025-11-12T13:00:0000Z
DTEND:2025-11-12T15:00:0000Z
SUMMARY:Parlons AVC Longueuil P2026
LOCATION:1400 Boulevard Édouard, Longueuil, QC, Canada Local 113
DESCRIPTION:Échanger sur l’AVC et ses impacts avec des personnes qui ont fait un AVC et leur proches en plus d’obtenir de l’information
END:VEVENT
END:VCALENDAR