BEGIN:VCALENDAR
PRODID:-//Microsoft Corporation//Outlook 14.0 MIMEDIR//EN
VERSION:2.0
METHOD:PUBLISH
BEGIN:VEVENT
UID:506a8a0fc4f7aec0e05c9e80a0eeccd0www.atccmonteregie.qc.ca
DTSTAMP:20260424T101256Z
DTSTART:2026-04-20T13:00:0000Z
DTEND:2026-04-20T15:30:0000Z
SUMMARY:Peinture et dessin Valleyfield (P2026)
LOCATION:77 Rue St Charles, Salaberry-de-Valleyfield, QC, Canada
DESCRIPTION:Exercices de peintures et de dessins avec différentes techniques.
END:VEVENT
END:VCALENDAR